BEGIN:VCALENDAR
VERSION:2.0
PRODID:-//Kamphof Krefeld - ECPv6.0.9//NONSGML v1.0//EN
CALSCALE:GREGORIAN
METHOD:PUBLISH
X-ORIGINAL-URL:https://kamphof-krefeld.de
X-WR-CALDESC:Veranstaltungen für Kamphof Krefeld
REFRESH-INTERVAL;VALUE=DURATION:PT1H
X-Robots-Tag:noindex
X-PUBLISHED-TTL:PT1H
BEGIN:VTIMEZONE
TZID:Europe/Berlin
BEGIN:DAYLIGHT
TZOFFSETFROM:+0100
TZOFFSETTO:+0200
TZNAME:CEST
DTSTART:20230326T010000
END:DAYLIGHT
BEGIN:STANDARD
TZOFFSETFROM:+0200
TZOFFSETTO:+0100
TZNAME:CET
DTSTART:20231029T010000
END:STANDARD
END:VTIMEZONE
BEGIN:VEVENT
DTSTART;TZID=Europe/Berlin:20230428T120000
DTEND;TZID=Europe/Berlin:20230430T150000
DTSTAMP:20260425T171015
CREATED:20221122T100748Z
LAST-MODIFIED:20221222T084435Z
UID:10000751-1682683200-1682866800@kamphof-krefeld.de
SUMMARY:Held*in sein mit Pfeil und Bogen
DESCRIPTION:Du stehst mit beiden Beinen im Leben. Gleichzeitig spürst Du die Sehnsucht\, etwas verändern\, dem Ruf eines neuen Abenteuers folgen zu wollen. Dich beschäftigt vielleicht die Frage\, was passiert\, wenn Du Dich beruflich oder privat neu aufstellst und ausrichtest oder wenn Du die Rolle als Führungskraft Deines eigenen Lebens neu oder anders gestaltest. \n\n\n\nMit der Heldenreise (nach Joseph Campbell) laden wir Dich ein\, Dich mit Deinen Zielen und dem Weg dorthin auseinanderzusetzen. Welches Hindernis will überwunden\, welche Schwelle überschritten werden? \n\n\n\nPfeil und Bogen helfen Dir\, Dich zu fokussieren und ganz im Augenblick zu sein. Das intuitive Bogenschießen bringt Freude und körperliches Erleben\, gibt Feedback und spiegelt Dir Kraftquellen sowie innere Blockaden. \n\n\n\nIn der kleinen und vertrauensvollen Gruppe stellst Du Dich mutig Deinen inneren wie äußeren Stimmen: Manches hält Dich zurück. Anderes motiviert Dich voranzuschreiten. \n\n\n\nWir unterstützen Dich dabei\, Deine Held*innenkräfte (wieder) zu entdecken.  \n\n\n\nSo kann sich entfalten\, was in Dir steckt. \n\n\n\nWir begleiten Dich empathisch und bedarfs-orientiert und Du gewinnst die Klarheit und den Mut für Deine ganz individuelle Reise. \n\n\n\nInfos und Anmeldung: https://www.issberner-coaching.de/deutsch/aktuelles-veranstaltungen/heldenreise-mit-pfeil-und-bogen/
URL:https://kamphof-krefeld.de/veranstaltung/bogenschiessen/
LOCATION:Kamphof Krefeld\, Heyenbaumstr. 143\, Krefeld\, NRW\, 47802\, Deutschland
ATTACH;FMTTYPE=image/jpeg:https://kamphof-krefeld.de/wp-content/uploads/2022/11/PfeilBogen.jpg
ORGANIZER;CN="Karin%20Issberner":MAILTO:karin@issberner-coaching.de
END:VEVENT
END:VCALENDAR