BEGIN:VCALENDAR
VERSION:2.0
PRODID:-//Kamphof Krefeld - ECPv6.0.9//NONSGML v1.0//EN
CALSCALE:GREGORIAN
METHOD:PUBLISH
X-WR-CALNAME:Kamphof Krefeld
X-ORIGINAL-URL:https://kamphof-krefeld.de
X-WR-CALDESC:Veranstaltungen für Kamphof Krefeld
REFRESH-INTERVAL;VALUE=DURATION:PT1H
X-Robots-Tag:noindex
X-PUBLISHED-TTL:PT1H
BEGIN:VTIMEZONE
TZID:Europe/Berlin
BEGIN:DAYLIGHT
TZOFFSETFROM:+0100
TZOFFSETTO:+0200
TZNAME:CEST
DTSTART:20260329T010000
END:DAYLIGHT
BEGIN:STANDARD
TZOFFSETFROM:+0200
TZOFFSETTO:+0100
TZNAME:CET
DTSTART:20261025T010000
END:STANDARD
END:VTIMEZONE
BEGIN:VEVENT
DTSTART;TZID=Europe/Berlin:20260908T090000
DTEND;TZID=Europe/Berlin:20260908T100000
DTSTAMP:20260420T230856
CREATED:20260415T170548Z
LAST-MODIFIED:20260415T170550Z
UID:10004630-1788858000-1788861600@kamphof-krefeld.de
SUMMARY:Atme dich frei - Breathwork & Bodywork für Frauen
DESCRIPTION:Dein Atem ist der direkteste Weg zu deinem Nervensystem – und der meistunterschätzte. \n\n\n\nErkennst du dich wieder? \n\n\n\n\nDu atmest unbewusst in die Brust\, hältst den Atem an. \n\n\n\nDu bist erschöpft und kannst trotzdem nicht loslassen. \n\n\n\nDruck auf der Brust\, ein enger Hals\, Verspannungen im Nacken und Schulterbereich. \n\n\n\nKaffee hilft kurz\, aber echte Energie fehlt. \n\n\n\nGrübeln\, Sorgen\, immer wieder dieselben Gedanken.  ❖ Das Nervensystem ist dauerhaft im Alarmmodus. \n\n\n\n\nWenn der Atem stockt\, stockt deshalb vieles mit. \n\n\n\nWas dich erwartet\n\n\n\nBreathwork – Geführte Atemübungen für das Nervensystem \n\n\n\nBodywork – Somatische Übungen für Körper & Geist \n\n\n\nSaisonal – Inhalte angepasst an Jahreszeit & Bedürfnisse \n\n\n\nAlltagsnah – Techniken zum sofortigen Mitnehmen \n\n\n\nIn dieser offenen Gruppe lernst du praktische Atem- und Körpertechniken\, die du sofort in deinen Alltag integrieren kannst. Dabei sind dein Atem & dein Körper deine Werkzeuge.  In jeder Session verbinden wir gezielte Atemtechniken mit somatischen Körperübungen –  sanfte\, wirkungsvolle Methoden\, die direkt auf das Nervensystem wirken. \n\n\n\nDie Techniken sind alltagstauglich – du kannst sie nach der Session direkt anwenden: morgens\,  in der Mittagspause\, abends zum Loslassen. \n\n\n\nWas möglich wird\n\n\n\nBreathwork und Bodywork sind keine schnelle Lösung – sie sind eine Praxis. Mit jeder Session gibst du deinem Nervensystem die Möglichkeit\, aus eingefahrenen Mustern herauszufinden. \n\n\n\n\nGesündere Atmung\n\n\n\nMehr Energie\n\n\n\nWeniger Stress\n\n\n\nBesser schlafen\n\n\n\nBessere Konzentration\n\n\n\nKörperbewusstsein\n\n\n\n\nWähle dein Format\n\n\n\nDu kannst einzeln schnuppern oder mit einer 5er- oder 10er-Karte dauerhaft dabei sein.  Je mehr Sessions\, desto mehr pro Einheit sparst du – und desto tiefer kannst du die Praxis  verankern. \n\n\n\nEinzelstunde \n\n\n\n29€ inkl. MwSt. \n\n\n\nIdeal zum Reinschnuppern oder wenn du flexibel bleiben möchtest. \n\n\n\n5er Karte \n\n\n\n129€ inkl. MwSt. · 25\,80€ je Session (Du sparst 16€) \n\n\n\nFür alle\, die eine echte Praxis entwickeln und regelmäßig dabei sein wollen. \n\n\n\n10er Karte \n\n\n\n239€ inkl. MwSt. · 23\,90€ je Session (Du sparst 51€) \n\n\n\nDie nachhaltigste Wahl – für echte Veränderung braucht es Kontinuität. \n\n\n\nHinweis: Breathwork und Bodywork sind eigenständige Körperpraktiken zur Unterstützung des Wohlbefindens. Sie ersetzen keine medizinische oder therapeutische Behandlung. Bei bestehenden Erkrankungen – insbesondere Herz-Kreislauf-Erkrankungen\, Schwangerschaft oder psychischen Diagnosen – bitte vorab ärztlichen Rat einholen.
URL:https://kamphof-krefeld.de/veranstaltung/atme-dich-frei-breathwork-bodywork-fuer-frauen/2026-09-08/
LOCATION:Kamphof Krefeld\, Heyenbaumstr. 143\, Krefeld\, NRW\, 47802\, Deutschland
ATTACH;FMTTYPE=image/jpeg:https://kamphof-krefeld.de/wp-content/uploads/2026/04/Bild-Ester-v.-Thenen.jpg
END:VEVENT
BEGIN:VEVENT
DTSTART;TZID=Europe/Berlin:20260908T181500
DTEND;TZID=Europe/Berlin:20260908T194500
DTSTAMP:20260420T230856
CREATED:20220918T141422Z
LAST-MODIFIED:20260309T201819Z
UID:10004412-1788891300-1788896700@kamphof-krefeld.de
SUMMARY:Yoga mit Ursula
DESCRIPTION:Yoga bedeutet verbinden\, anjochen. Gemeint ist das Verbinden mit unserer Quelle\, dem Ursprung unserer Existenz. In diesem Yogaangebot führen sehr langsam ausgeübte Bewegungen in die Yogahaltungen. Dabei wird die Aufmerksamkeit sanft auf die inneren Vorgänge gelenkt. Dies ist eine stetige Hinwendung zur Gegenwärtigkeit\, die uns erfahren lässt\, was ist. Sie lässt uns ruhig werden und ermöglicht\, dass wir uns des Urgrundes unserer Existenz gewahr werden; hierzu gehören die Stille\, das Gefühl des Friedvollen in uns und auch das Gefühl der Freude. Ein tiefes Gefühl der Annehmlichkeit kann sich einstellen. Darüber hinaus wird der Körper durch die Übungen kräftiger und flexibler\, das Nervensystem harmonisiert sich. Indem wir unseren Körper während der Yogastunden wohlwollend beobachten\, schaffen wir zudem bewusst eine freundliche Beziehung zu ihm sowie auch zu unserem Sein. \n\n\n\nDas Yoga-Angebot richtet sich an alle Altersgruppen. Es sind keine Vorerfahrungen notwendig. \n\n\n\nDie Kurse sind zertifiziert. Die meisten gesetzlichen Krankenkassen sowie die Beihilfe beteiligen sich an den Kosten.
URL:https://kamphof-krefeld.de/veranstaltung/yogatrampnau-2/2026-09-08/
LOCATION:Kamphof Krefeld\, Heyenbaumstr. 143\, Krefeld\, NRW\, 47802\, Deutschland
CATEGORIES:Wöchentliche Veranstaltungen
ATTACH;FMTTYPE=image/jpeg:https://kamphof-krefeld.de/wp-content/uploads/2022/06/Seminarraum.jpg
ORGANIZER;CN="Ursula%20M%C3%BChlmeyer":MAILTO:ursula.muehlmeyer@gmail.com
END:VEVENT
BEGIN:VEVENT
DTSTART;TZID=Europe/Berlin:20260908T200000
DTEND;TZID=Europe/Berlin:20260908T211500
DTSTAMP:20260420T230856
CREATED:20241231T105323Z
LAST-MODIFIED:20251207T170035Z
UID:10002278-1788897600-1788902100@kamphof-krefeld.de
SUMMARY:Yoga mit Judith
DESCRIPTION:Vor vielen Jahren fand ich durch einen glücklichen Zufall zum Yoga\, und seitdem hat es mein Leben tiefgreifend verändert. \n\n\n\nYoga ist für mich nicht nur eine körperliche Praxis\, sondern eine ganzheitliche Lebensweise\, die Körper\, Geist und Seele in Einklang bringt. \n\n\n\nMit meiner Yoga-Praxis möchte ich Sie/ Euch auf eine Reise in die innere Stille und tiefe Entspannung mitnehmen. Diese Erfahrung kann Ihnen/ Euch helfen\, den Alltag aus einer neuen Perspektive zu betrachten und mit mehr Gelassenheit und Klarheit zu begegnen. \n\n\n\nIn meinen Stunden üben wir sowohl dynamische als auch statische Asanas\, die den Körper stärken und flexibilisieren. \n\n\n\nDarüber hinaus tauchen wir in die Welt der Atemtechniken und Atemlenkungen ein\, die helfen\, den Atem bewusst zu steuern und dadurch innere Ruhe zu finden. Meditation ist ein weiterer wichtiger Bestandteil meiner Praxis\, der es ermöglicht\, den Geist zu beruhigen und in einen Zustand tiefer Achtsamkeit einzutauchen. \n\n\n\nIch freue mich darauf\, Sie/ Euch auf dem Yoga-Weg zu begleiten und gemeinsam die vielen Facetten dieser wunderbaren Praxis zu entdecken. \n\n\n\nPreis: \n\n\n\n17€ pro Stunde\, Probestunde 10€
URL:https://kamphof-krefeld.de/veranstaltung/yoga-2/2026-09-08/
LOCATION:Kamphof Krefeld\, Heyenbaumstr. 143\, Krefeld\, NRW\, 47802\, Deutschland
ATTACH;FMTTYPE=image/jpeg:https://kamphof-krefeld.de/wp-content/uploads/2024/12/Bild-Judith-Dicks.jpg
ORGANIZER;CN="Judith%20Dicks":MAILTO:Judithdicks@web.de
END:VEVENT
END:VCALENDAR